BEGIN:VCALENDAR
PRODID:-//Facebook//NONSGML Facebook Events V1.0//EN
X-WR-CALNAME:WING WARS OF ACADIANA 2026
X-PUBLISHED-TTL:PT12H
X-ORIGINAL-URL:https://www.facebook.com/events/652520337399971/
VERSION:2.0
CALSCALE:GREGORIAN
METHOD:PUBLISH
BEGIN:VEVENT
DTSTAMP:20260127T183756Z
LAST-MODIFIED:20260127T183756Z
CREATED:20250416T115541Z
SEQUENCE:24734535
ORGANIZER;CN=Wing Wars of Acadiana:MAILTO:noreply@facebookmail.com
DTSTART:20260516T150000Z
DTEND:20260516T210000Z
UID:e652520337399971@facebook.com
SUMMARY:WING WARS OF ACADIANA 2026
LOCATION:Parc International
URL:https://www.facebook.com/events/652520337399971/
DESCRIPTION:🗓️SAVE THE DATE for the 2026 
 WING WARS OF ACADIANA!\nAcadiana's 
 Ultimate Chicken Wing Festival & C
 ook-Off🔥🍗🔥\n\nWHEN: Saturda
 y\, May 16th\, 2026\nWHERE: PARC INTE
 RNATIONAL - 200 GARFIELD ST\, LAFAY
 ETTE\, LA 70501\nTIME: 10AM - 4 PM\n\n
 Wing Wars of Acadiana brings toget
 her the best chefs\, bands\, and chi
 cken wing enthusiasts for an aweso
 me day of fun and fundraising for 
 homeless children in our community
 . \n\nMark your calendars and keep a
 n eye out for more info‼️😍\n
 \nhttps://www.facebook.com/events/6
 52520337399971/
CLASS:PUBLIC
STATUS:CONFIRMED
PARTSTAT:ACCEPTED
END:VEVENT
END:VCALENDAR
